BEGIN:VCALENDAR
VERSION:2.0
PRODID:-// - ECPv6.6.4.1//NONSGML v1.0//EN
CALSCALE:GREGORIAN
METHOD:PUBLISH
X-ORIGINAL-URL:https://oaklandartmurmur.org
X-WR-CALDESC:Events for 
REFRESH-INTERVAL;VALUE=DURATION:PT1H
X-Robots-Tag:noindex
X-PUBLISHED-TTL:PT1H
BEGIN:VTIMEZONE
TZID:America/Los_Angeles
BEGIN:DAYLIGHT
TZOFFSETFROM:-0800
TZOFFSETTO:-0700
TZNAME:PDT
DTSTART:20260308T100000
END:DAYLIGHT
BEGIN:STANDARD
TZOFFSETFROM:-0700
TZOFFSETTO:-0800
TZNAME:PST
DTSTART:20261101T090000
END:STANDARD
END:VTIMEZONE
BEGIN:VEVENT
DTSTART;TZID=America/Los_Angeles:20260312T120000
DTEND;TZID=America/Los_Angeles:20260425T170000
DTSTAMP:20260420T030006
CREATED:20260311T045200Z
LAST-MODIFIED:20260311T045308Z
UID:10004230-1773316800-1777136400@oaklandartmurmur.org
SUMMARY:Frank D. Cole: The House Inside
DESCRIPTION:Gallery Hours: Thursdays\, Fridays and Saturdays\, 12 – 5 pm\, and by appointment\nOpening Reception: Saturday March 14th\, 1-4 pm\nArtist’s Talk: April 18\, starting at 2 pm \nTransmission Gallery is pleased to present The House Inside\, recent paintings by East Bay painter\, Frank D. Cole.  \nWorking from his West Oakland studio\, Frank Cole paints from a distance\, both geographic and temporal. His large-scale works emerge from reflections on his childhood in Mississippi\, with landscape\, weather\, and architecture forming an enduring visual vocabulary. In this work\, Mississippi becomes less a fixed geography than a felt condition\, a stand-in for memory and connection\, suspended between clarity and dream.  \nFramed by porches\, window casings\, and thresholds\, Cole’s paintings position the viewer in an interior space\, looking outward. Beams\, panes\, and floorboards divide and measure the picture plane acting as armatures for recollection\, holding in place fleeting impressions of light on water\, wind through tall grass\, or rain dissolving a stand of trees. The result is both architectural and narrative\, emerging as quiet meditations on place and time\, imbued with reverie and longing.  \nThe paintings carry a subtle tension between shelter and exposure\, presence and absence. No figures occupy these interiors; instead\, the viewer becomes the inhabitant. The threshold functions as a metaphor for memory–a point where the past remains visible yet inaccessible.  \nAccompanying the larger canvases\, small preparatory studies reveal the evolution of each composition. In these pieces\, Cole tests structure\, color temperature\, and atmosphere. The studies function as concentrated meditations—intimate works where gesture and light are first explored before expanding into the larger paintings. \nWhile rooted in a specific place\, these recollections resonate beyond their origin\, becoming a point of departure for a broader exploration of early embodied experience – how light filled a certain room\, the rhythm of rain on a roof\, the view framed by a familiar window. Through carefully constructed interiors and expansive vistas\, Frank Cole transforms personal memory into a contemplative space others can inhabit.
URL:https://oaklandartmurmur.org/event/frank-d-cole-the-house-inside/
LOCATION:Transmission Gallery\, 770 West Grand Ave.\, Suite A\, Oakland\, CA\, 94612\, United States
CATEGORIES:Ongoing Exhibitions
ATTACH;FMTTYPE=image/jpeg:https://oaklandartmurmur.org/wp-content/uploads/2026/03/Cole_PondHouse_web-1.jpg
GEO:37.804829;-122.272476
X-APPLE-STRUCTURED-LOCATION;VALUE=URI;X-ADDRESS=Transmission Gallery 770 West Grand Ave. Suite A Oakland CA 94612 United States;X-APPLE-RADIUS=500;X-TITLE=770 West Grand Ave.\, Suite A:geo:-122.272476,37.804829
END:VEVENT
BEGIN:VEVENT
DTSTART;TZID=America/Los_Angeles:20260423T120000
DTEND;TZID=America/Los_Angeles:20260606T170000
DTSTAMP:20260420T030006
CREATED:20260411T235223Z
LAST-MODIFIED:20260411T235223Z
UID:10004771-1776945600-1780765200@oaklandartmurmur.org
SUMMARY:Sonia Gill: Memento Vivere/Remember to Live
DESCRIPTION:Sonia Gill: Memento Vivere/Remember to Live\nApril 23 – June 6\n____________ \n​Artists’ Reception\nconcurrent with reception for Jeff Dikio: This Must Be the Place\nSaturday\, May 2nd from 1-4 pm \n​Artist’s Talk\nSaturday\, May 16h at 2 pm \nClosing Reception\nSaturday\, June 6th from 1-4 pm \nIn Memento Vivere: Remember to Live\, Sonia Gill’s work invites us into a world where painting is reimagined through paper—where the brushstroke is replaced by the torn edge of a magazine fragment\, and color is discovered rather than mixed. \nBeginning with a photographic reference drawn from her everyday life\, Gill builds her compositions piece by piece through a slow and contemplative process. Drawing from a vast archive of printed matter: pages of magazines\, discarded scraps\, and remnants of images once whole\, she assembles hundreds of paper fragments translating the image into a new state of presence. Within this self-imposed constraint\, she embarks on a rigorous and intuitive search for the exact hue\, value\, or texture needed to bring a scene to life. \n​At its core\, this body of work is an homage to the quiet\, enduring moments that define human life: reading together\, tending to small rituals\, routine tasks and moments of reflection. In an era often marked by business and noise\, Gill’s practice offers a counterpoint—a deliberate slowing down\, a careful reconstruction of meaning through attention and care reminding us that life’s significance resides not in spectacle\, but in the accumulation of small\, luminous moments. This work is a reminder – remember to live. \nTrained as a painter and influenced by mentor’s Jay DeFeo and Ron Dahl\, Gill graduated with a BFA from California College of Arts and Crafts\, in addition to degrees from Michigan State University in French. With a robust exhibition history\, she has shown extensively in the Bay Area with solo exhibitions dating  over the past twenty years and inclusion in a long list of juried shows. Her work has been published in Studio Visit Magazine and 48 Hills\, among other publications\, and recognition in painting and watercolor with awards from the Sebastopol Center for the Arts\, Northern National Art Competition\, Richmond Art Center and Fort Bragg Art Center.
URL:https://oaklandartmurmur.org/event/sonia-gill-memento-vivere-remember-to-live/
LOCATION:Transmission Gallery\, 770 West Grand Ave.\, Suite A\, Oakland\, CA\, 94612\, United States
CATEGORIES:Ongoing Exhibitions
ATTACH;FMTTYPE=image/jpeg:https://oaklandartmurmur.org/wp-content/uploads/2026/04/Gill_LightingTheNight_20x20-scaled.jpeg
GEO:37.804829;-122.272476
X-APPLE-STRUCTURED-LOCATION;VALUE=URI;X-ADDRESS=Transmission Gallery 770 West Grand Ave. Suite A Oakland CA 94612 United States;X-APPLE-RADIUS=500;X-TITLE=770 West Grand Ave.\, Suite A:geo:-122.272476,37.804829
END:VEVENT
BEGIN:VEVENT
DTSTART;TZID=America/Los_Angeles:20260430T120000
DTEND;TZID=America/Los_Angeles:20260613T170000
DTSTAMP:20260420T030006
CREATED:20260404T232520Z
LAST-MODIFIED:20260404T232520Z
UID:10004758-1777550400-1781370000@oaklandartmurmur.org
SUMMARY:Jeff Dikio: This Must Be the Place
DESCRIPTION:Jeff Dikio: This Must Be the Place\nApril 30 – June 13\, 2026 \nOpening Reception\, Saturday\, May 2nd\, 1-4 pm. \nIn This Must Be the Place\, Jeff Dikio reflects on the quiet spaces where memory\, environment\, and emotion intersect. Borrowing its title from the Talking Heads song\, the exhibition considers “place” not as a fixed location\, but as a feeling—something recognized in passing\, in fragments\, in moments of stillness. \nUsing paint chips in his collages\, Dikio reconstructs familiar “every day” scenes  into compositions that feel both grounded and unsettled. What emerges is a visual language of belonging\, where home is less about geography and more about resonance.” \nDikio is a Bay Area artist born in 1975 on Clark Air Force Base in the Philippines. Raised within a transient military culture\, he found early grounding in drawing and observation\, developing a lifelong sensitivity to place\, movement\, and change. \nIn his recent collages\, Dikio tries to capture the colorful and quirky architecture and scenes found in his immediate surroundings that are distinctive of the surrounding Bay Area. \nHe received his BA in Fine Arts from the University of California\, Santa Cruz in 1997\, and has since worked across figurative\, landscape\, and mixed-media practices.
URL:https://oaklandartmurmur.org/event/jeff-dikio-this-must-be-the-place/
LOCATION:Transmission Gallery\, 770 West Grand Ave.\, Suite A\, Oakland\, CA\, 94612\, United States
CATEGORIES:Ongoing Exhibitions
ATTACH;FMTTYPE=image/jpeg:https://oaklandartmurmur.org/wp-content/uploads/2026/04/Jeffdikio.yellowmissionvictorian.jpeg-scaled.jpg
GEO:37.804829;-122.272476
X-APPLE-STRUCTURED-LOCATION;VALUE=URI;X-ADDRESS=Transmission Gallery 770 West Grand Ave. Suite A Oakland CA 94612 United States;X-APPLE-RADIUS=500;X-TITLE=770 West Grand Ave.\, Suite A:geo:-122.272476,37.804829
END:VEVENT
BEGIN:VEVENT
DTSTART;TZID=America/Los_Angeles:20260502T130000
DTEND;TZID=America/Los_Angeles:20260502T160000
DTSTAMP:20260420T030006
CREATED:20260404T235259Z
LAST-MODIFIED:20260404T235259Z
UID:10004759-1777726800-1777737600@oaklandartmurmur.org
SUMMARY:Opening Reception - Jeff Dikio: This Must Be the Place
DESCRIPTION:Opening Reception\, Saturday\, May 2nd\, 1-4 pm\nConcurrent with the Opening Reception for Sonia Gill: Memento Vivere / Remember to Live\, also at Transmission Gallery at 770 West Grand Ave in Oakland. \nAll are welcome so please join us to greet the artist\, enjoy the light refreshments and check out Jeff Dikio’s recent colorful paint chip collages celebrating Bay Area neighborhoods. \nIn This Must Be the Place\, Jeff Dikio reflects on the quiet spaces where memory\, environment\, and emotion intersect. Borrowing its title from the Talking Heads song\, the exhibition considers “place” not as a fixed location\, but as a feeling—something recognized in passing\, in fragments\, in moments of stillness. \nUsing paint chips in his collages\, Dikio reconstructs familiar “every day” scenes  into compositions that feel both grounded and unsettled. What emerges is a visual language of belonging\, where home is less about geography and more about resonance.” \nJeff Dikio is a Bay Area artist born in 1975 on Clark Air Force Base in the Philippines. Raised within a transient military culture\, he found early grounding in drawing and observation\, developing a lifelong sensitivity to place\, movement\, and change. \nIn his recent collages\, Dikio tries to capture the colorful and quirky architecture and scenes found in his immediate surroundings that are distinctive of the surrounding Bay Area. \nHe received his BA in Fine Arts from the University of California\, Santa Cruz in 1997\, and has since worked across figurative\, landscape\, and mixed-media practices.
URL:https://oaklandartmurmur.org/event/opening-reception-jeff-dikio-this-must-be-the-place/
LOCATION:Transmission Gallery\, 770 West Grand Ave.\, Suite A\, Oakland\, CA\, 94612\, United States
CATEGORIES:Opening Reception
ATTACH;FMTTYPE=image/jpeg:https://oaklandartmurmur.org/wp-content/uploads/2026/04/Jeffdikio.reddoelger.jpeg.jpg
GEO:37.804829;-122.272476
X-APPLE-STRUCTURED-LOCATION;VALUE=URI;X-ADDRESS=Transmission Gallery 770 West Grand Ave. Suite A Oakland CA 94612 United States;X-APPLE-RADIUS=500;X-TITLE=770 West Grand Ave.\, Suite A:geo:-122.272476,37.804829
END:VEVENT
BEGIN:VEVENT
DTSTART;TZID=America/Los_Angeles:20260502T130000
DTEND;TZID=America/Los_Angeles:20260502T160000
DTSTAMP:20260420T030006
CREATED:20260416T234616Z
LAST-MODIFIED:20260416T234616Z
UID:10004776-1777726800-1777737600@oaklandartmurmur.org
SUMMARY:Artist's Reception - Sonia Gill: Memento Vivere / Remember to Live
DESCRIPTION:Sonia Gill: Memento Vivere / Remember to Live\, Artist’s Reception\, Saturday\, May 2nd\, 1-4 pm \nAll are welcome\, please stop by between 1 and 4 pm Saturday\, May 2nd\, to greet the artist\, check out new work in the gallery and enjoy the light refreshments served up on our lovely deck outside (weather permitting). Look for the “ART” building at 770 West Grand Ave in Oakland with free street parking along West Grand and the neighborhood south. Also on hand will be artist\, Jeff Dikio\, with new paint chip collage work at Transmission in “This Must Be the Place.” See both shows at Transmission with more artwork in the Office and\, while you’re in the building\, check out Gearbox Gallery just downstairs. \nIn Memento Vivere: Remember to Live\, Sonia Gill’s work invites us into a world where painting is reimagined through paper—where the brushstroke is replaced by the torn edge of a magazine fragment\, and color is discovered rather than mixed. \nBeginning with a photographic reference drawn from her everyday life\, Gill builds her compositions piece by piece through a slow and contemplative process. Drawing from a vast archive of printed matter: pages of magazines\, discarded scraps\, and remnants of images once whole\, she assembles hundreds of paper fragments translating the image into a new state of presence. Within this self-imposed constraint\, she embarks on a rigorous and intuitive search for the exact hue\, value\, or texture needed to bring a scene to life. \n​At its core\, this body of work is an homage to the quiet\, enduring moments that define human life: reading together\, tending to small rituals\, routine tasks and moments of reflection. In an era often marked by business and noise\, Gill’s practice offers a counterpoint—a deliberate slowing down\, a careful reconstruction of meaning through attention and care reminding us that life’s significance resides not in spectacle\, but in the accumulation of small\, luminous moments. This work is a reminder – remember to live. \nTrained as a painter and influenced by mentor’s Jay DeFeo and Ron Dahl\, Gill graduated with a BFA from California College of Arts and Crafts\, in addition to degrees from Michigan State University in French. With a robust exhibition history\, she has shown extensively in the Bay Area with solo exhibitions dating  over the past twenty years and inclusion in a long list of juried shows. Her work has been published in Studio Visit Magazine and 48 Hills\, among other publications\, and recognition in painting and watercolor with awards from the Sebastopol Center for the Arts\, Northern National Art Competition\, Richmond Art Center and Fort Bragg Art Center.
URL:https://oaklandartmurmur.org/event/artists-reception-sonia-gill-memento-vivere-remember-to-live/
LOCATION:Transmission Gallery\, 770 West Grand Ave.\, Suite A\, Oakland\, CA\, 94612\, United States
CATEGORIES:Opening Reception
ATTACH;FMTTYPE=image/jpeg:https://oaklandartmurmur.org/wp-content/uploads/2026/04/Gill_MinorMiracles_2026_36x36-1.jpg
GEO:37.804829;-122.272476
X-APPLE-STRUCTURED-LOCATION;VALUE=URI;X-ADDRESS=Transmission Gallery 770 West Grand Ave. Suite A Oakland CA 94612 United States;X-APPLE-RADIUS=500;X-TITLE=770 West Grand Ave.\, Suite A:geo:-122.272476,37.804829
END:VEVENT
BEGIN:VEVENT
DTSTART;TZID=America/Los_Angeles:20260516T140000
DTEND;TZID=America/Los_Angeles:20260516T143000
DTSTAMP:20260420T030006
CREATED:20260416T233131Z
LAST-MODIFIED:20260416T234715Z
UID:10004775-1778940000-1778941800@oaklandartmurmur.org
SUMMARY:Artist’s Talk – Sonia Gill: Memento Vivere / Remember to Live
DESCRIPTION:Sonia Gill: Memento Vivere / Remember to Live\nArtist’s Talk starts at 2 pm – please join us – all are welcome! Free street parking nearby. \nIn Memento Vivere: Remember to Live\, Sonia Gill’s work invites us into a world where painting is reimagined through paper—where the brushstroke is replaced by the torn edge of a magazine fragment\, and color is discovered rather than mixed. Indeed\, Gill often refers to her collages as paintings. Thoughtful of composition and content\, Gill’s imagery emerges through a contemplative process with color drawn from a vast trove of magazine imagery.  \nImages pay homage to the daily moments from which our lives are built\, quiet\, repetitive\, and precious as they are. \nCome out to the artist’s talk to hear more from Sonia about her art practice\, philosophy and the development of the figurative work on view at Transmission Gallery. Events are free and open to the public. \nCan’t make the talk? See the work April 23 – June 6\, Thursdays\, Fridays and Saturdays\, 12-5pm and by appointment.
URL:https://oaklandartmurmur.org/event/artists-talk-sonia-gill-memento-vivere-remember-to-live/
LOCATION:Transmission Gallery\, 770 West Grand Ave.\, Suite A\, Oakland\, CA\, 94612\, United States
CATEGORIES:Artists Talk
ATTACH;FMTTYPE=image/jpeg:https://oaklandartmurmur.org/wp-content/uploads/2026/04/Gill_MinorMiracles_2026_36x36.jpg
GEO:37.804829;-122.272476
X-APPLE-STRUCTURED-LOCATION;VALUE=URI;X-ADDRESS=Transmission Gallery 770 West Grand Ave. Suite A Oakland CA 94612 United States;X-APPLE-RADIUS=500;X-TITLE=770 West Grand Ave.\, Suite A:geo:-122.272476,37.804829
END:VEVENT
END:VCALENDAR