BEGIN:VCALENDAR
VERSION:2.0
PRODID:-// - ECPv6.6.4.1//NONSGML v1.0//EN
CALSCALE:GREGORIAN
METHOD:PUBLISH
X-ORIGINAL-URL:https://oaklandartmurmur.org
X-WR-CALDESC:Events for 
REFRESH-INTERVAL;VALUE=DURATION:PT1H
X-Robots-Tag:noindex
X-PUBLISHED-TTL:PT1H
BEGIN:VTIMEZONE
TZID:America/Los_Angeles
BEGIN:DAYLIGHT
TZOFFSETFROM:-0800
TZOFFSETTO:-0700
TZNAME:PDT
DTSTART:20260308T100000
END:DAYLIGHT
BEGIN:STANDARD
TZOFFSETFROM:-0700
TZOFFSETTO:-0800
TZNAME:PST
DTSTART:20261101T090000
END:STANDARD
END:VTIMEZONE
BEGIN:VEVENT
DTSTART;TZID=America/Los_Angeles:20260206T170000
DTEND;TZID=America/Los_Angeles:20260206T210000
DTSTAMP:20260420T113028
CREATED:20260131T175447Z
LAST-MODIFIED:20260131T175447Z
UID:10004184-1770397200-1770411600@oaklandartmurmur.org
SUMMARY:Oakland Art Murmur / First Friday – On Material Ground
DESCRIPTION:Andrea Guskin\, Monika Mayer\, Caity Salamanca\nON MATERIAL GROUND \nOn Material Ground brings together three Mercury 20 artists whose practices are rooted in the exploration of materials\, form\, and process\, which serves as the foundation from which concepts and ideas emerge. \nAndrea Guskin’s practice moves across the disciplines of photography\, sculpture\, and painting to create objects\, images\, and spaces where the familiar converses with the existential. Through layering\, ripping\, and transforming ordinary materials–spices\, foil\, thread\, wool– her work explores ancestry\, memory\, and our methods for seeking knowledge. \nMonika Mayer’s practice is rooted in an ongoing dialogue of working with everyday materials like inner tubes\, canvas\, paint\, and found objects. Guided by an intuitive\, process-driven approach\, she lets new forms surface organically. Through play and transformation\, her work uncovers the quiet rhythms and unexpected possibilities within the familiar. \nCaity Salamanca embraces experimentation\, slicing apart large repurposed canvases to create intimate landscapes. Guided by the willingness to take risks and the liberating act of cutting into older work\, she opens new creative pathways. Through this transformative process\, Salamanca uncovers a series of landscapes that emerge as a surprising\, unexpected discovery. \nGallery Hours: Fri & Sat\, 12–5 pm (or by appointment) \nImage from left: Monika Mayer\, Soft Sculpture #11\, 2025\, Inner tubes and zip ties\, 33” x 14” x 4”; Andrea Guskin\, Blue Roots\, 2025\, Cyanotype on cotton\, 8.5” x 11”; Caity Salamanca\, Untitled\, Collage Landscape\, 2025\, mixed media on canvas mounted on board\, 8”x 8”. (Photos courtesy of the artists)
URL:https://oaklandartmurmur.org/event/oakland-art-murmur-first-friday-on-material-ground/
LOCATION:Mercury 20 Gallery\, 475 25th Street\, Oakland\, CA\, 94612\, United States
ATTACH;FMTTYPE=image/jpeg:https://oaklandartmurmur.org/wp-content/uploads/2026/01/On-Material-Ground_Composition-Image_1_MM_11-2025-scaled.jpeg
GEO:37.804829;-122.272476
X-APPLE-STRUCTURED-LOCATION;VALUE=URI;X-ADDRESS=Mercury 20 Gallery 475 25th Street Oakland CA 94612 United States;X-APPLE-RADIUS=500;X-TITLE=475 25th Street:geo:-122.272476,37.804829
END:VEVENT
BEGIN:VEVENT
DTSTART;TZID=America/Los_Angeles:20260221T030000
DTEND;TZID=America/Los_Angeles:20260221T170000
DTSTAMP:20260420T113028
CREATED:20260128T021555Z
LAST-MODIFIED:20260128T021749Z
UID:10004175-1771642800-1771693200@oaklandartmurmur.org
SUMMARY:Opening Reception and Artist Talk – Dr. KC Rosenberg: Raised by Wolves
DESCRIPTION:Dr. KC Rosenberg creates her work on the floor of her studio\, where raw canvas and paper are walked on\, soaked\, and marked through movement and touch. Her background in printmaking and textiles informs a material-driven approach that values impressions\, repetition\, and layered surfaces as records of action. Lines and bands of color function as spaces where stories can unfold. In her newest series\, Rosenberg introduces narrative fragments into these abstract forms. Images and words appear like passing thoughts or half-remembered moments—sometimes humorous\, sometimes dark—forming a personal visual vocabulary. Using collage\, she brings together abstraction\, text\, and imagery to create poetic connections rather than fixed meanings. The work invites viewers to slow down\, look closely\, and make their own associations. At its core\, Rosenberg’s practice explores how memory\, language\, and the body intersect\, transforming process itself into a form of storytelling. \nBio:\nBorn in Marin County\, California\, Dr. KC Rosenberg was raised in a bohemian household shaped by intellectual rigor and domestic improvisation; while her mother worked and studied law\, Rosenberg and her siblings were cared for by a shifting network of caretakers\, an environment whose chaos fostered early strategies of invention through imagined companions\, substitute characters\, and close observation of animal behavior. In 2021\, medical complications during the COVID-19 pandemic prompted a significant shift in her practice toward abstraction\, reducing narrative certainty and temporarily setting aside personal history\, which later returned as material rather than subject; these formative experiences now register in her work as form and emotional traces rather than representation. Rosenberg has exhibited with Patricia Sweetow Gallery\, and her work is held in the collections of the California Arts Council and the San Jose Museum of Quilts & Textiles. She holds an Ed.D. and conducts social research on collective mentorship systems among artists. \nGallery Hours: Friday and Saturday\, 12 – 5 pm (and by appointment)\nArtists’ Reception: Saturday\, February 21\, 3 – 5 pm\, artist talks at 4:00 pm\n﻿Oakland Art Murmur / First Friday: Friday\, March 6\, 5 – 9 pm \nImage: KC Rosenberg\, Backfloat\, 2026\, from Raised By Wolves Series\, Acrylic paint and fabric collage on wooden panel 24” x 36”
URL:https://oaklandartmurmur.org/event/opening-reception-and-artist-talk-dr-kc-rosenberg-raised-by-wolves/
LOCATION:Mercury 20 Gallery\, 475 25th Street\, Oakland\, CA\, 94612\, United States
CATEGORIES:Artists Talk,Opening Reception
ATTACH;FMTTYPE=image/jpeg:https://oaklandartmurmur.org/wp-content/uploads/2026/01/Rosenberg-Backfloat-2026.jpg
GEO:37.804829;-122.272476
X-APPLE-STRUCTURED-LOCATION;VALUE=URI;X-ADDRESS=Mercury 20 Gallery 475 25th Street Oakland CA 94612 United States;X-APPLE-RADIUS=500;X-TITLE=475 25th Street:geo:-122.272476,37.804829
END:VEVENT
BEGIN:VEVENT
DTSTART;TZID=America/Los_Angeles:20260306T170000
DTEND;TZID=America/Los_Angeles:20260328T170000
DTSTAMP:20260420T113028
CREATED:20260228T180433Z
LAST-MODIFIED:20260301T184231Z
UID:10004219-1772816400-1774717200@oaklandartmurmur.org
SUMMARY:"Who Am I?" portraits by Leslie Plato Smith
DESCRIPTION:For March we are honored to feature the work of local Bay Area artist Leslie Plato Smith\, in her latest show entitled\, “Who Am I?” \n“We are living in turbulent times. We are questioning our values\, beliefs\, and education. Our national leaders prove to be untrustworthy\, as the media feeds misleading narratives. Our history feels as uncertain as our future. We are having difficulty finding common ground\, the truth\, and what we stand for. Conflict is everywhere. Everyone is asking themselves: “Who Am I?” \nArtist Bio:\nChoctaw\, Viking\, AVChancellor\, Governmental Relations\, emerita. Highlights: national award for bringing together 60 art departments\, creating 125 life-size statues showing how budget cuts negatively impact access and opportunity\, democracy and upward mobility; European Cultural Centre’s Venice Biennale: “Who Are We?”; Spotlight Artist for Richmond Art Center\, “Vulnerability;” “Clay Sustains: Vessels of Change” Palo Alto Art Center. \nPlato Smith’s grandfather was born on the Choctaw Reservation and her orphaned grandmother was born to immigrant parents from Denmark and Sweden. Migration\, immigration\, resettlement and environment/wildlife are key themes that resonate through her creative practice and professional work. She is very committed to acknowledgement of ALL LIFE. Her mother\, Lee Plato Smith\, educated at California School of Fine Arts\, taught her to draw off the edge and never be afraid of making mistakes. \nMarch 6th – 28th\, 2026\nFirst Friday reception: March 6th 5-10pm \nHours:\nSaturdays 1-5pm\nEvery first Friday of the month 5-9pm\notherwise by appointment
URL:https://oaklandartmurmur.org/event/who-am-i/
LOCATION:FM Gallery\, 483 25th Street\, Oakland\, CA\, 94612\, United States
CATEGORIES:Art Walk,Ongoing Exhibitions,Opening Reception
ATTACH;FMTTYPE=image/jpeg:https://oaklandartmurmur.org/wp-content/uploads/2026/02/Leslie-Flyer-ImageOnly-Portrait.jpg
GEO:37;-122
X-APPLE-STRUCTURED-LOCATION;VALUE=URI;X-ADDRESS=FM Gallery 483 25th Street Oakland CA 94612 United States;X-APPLE-RADIUS=500;X-TITLE=483 25th Street:geo:-122,37
END:VEVENT
END:VCALENDAR