BEGIN:VCALENDAR
VERSION:2.0
PRODID:-// - ECPv6.6.4.1//NONSGML v1.0//EN
CALSCALE:GREGORIAN
METHOD:PUBLISH
X-ORIGINAL-URL:https://oaklandartmurmur.org
X-WR-CALDESC:Events for 
REFRESH-INTERVAL;VALUE=DURATION:PT1H
X-Robots-Tag:noindex
X-PUBLISHED-TTL:PT1H
BEGIN:VTIMEZONE
TZID:America/Los_Angeles
BEGIN:DAYLIGHT
TZOFFSETFROM:-0800
TZOFFSETTO:-0700
TZNAME:PDT
DTSTART:20260308T100000
END:DAYLIGHT
BEGIN:STANDARD
TZOFFSETFROM:-0700
TZOFFSETTO:-0800
TZNAME:PST
DTSTART:20261101T090000
END:STANDARD
END:VTIMEZONE
BEGIN:VEVENT
DTSTART;TZID=America/Los_Angeles:20260403T180000
DTEND;TZID=America/Los_Angeles:20260403T210000
DTSTAMP:20260420T112838
CREATED:20260317T205000Z
LAST-MODIFIED:20260317T205000Z
UID:10004239-1775239200-1775250000@oaklandartmurmur.org
SUMMARY:FIRST FRIDAY RECEPTION -- Multi-Artist Exhibition
DESCRIPTION:Here’s your chance to meet the artists from this wonderfully eclectic exhibition of Bay Area artists.  The exhibition closes at the end of April\, but First Fridays are the best time to talk to the artists about their work.  It ranges from weaving to acrylic paints.  From abstract to realism.  Come by and enjoy the work of:\n                                                           Arie Dallas\n                                                           Ken Knudsen\n                                                           Nina Krebs\n                                                           MacArthur Nelson\n                                                           Shu\n                                                           Diane Wang\nRefreshments will be served.
URL:https://oaklandartmurmur.org/event/first-friday-reception-multi-artist-exhibition/
LOCATION:Art@Archer\, 431 13th Street\, Oakland\, CA\, 94607\, United States
CATEGORIES:Ongoing Exhibitions
ATTACH;FMTTYPE=image/jpeg:https://oaklandartmurmur.org/wp-content/uploads/2026/03/Mar-Apr-Exhibition-Card-front.jpg
ORGANIZER;CN="Art@Archer":MAILTO:greg@archerbike.com
GEO:37.804829;-122.272476
X-APPLE-STRUCTURED-LOCATION;VALUE=URI;X-ADDRESS=Art@Archer 431 13th Street Oakland CA 94607 United States;X-APPLE-RADIUS=500;X-TITLE=431 13th Street:geo:-122.272476,37.804829
END:VEVENT
BEGIN:VEVENT
DTSTART;TZID=America/Los_Angeles:20260313T120000
DTEND;TZID=America/Los_Angeles:20260418T170000
DTSTAMP:20260420T112838
CREATED:20260311T045759Z
LAST-MODIFIED:20260311T045759Z
UID:10004231-1773403200-1776531600@oaklandartmurmur.org
SUMMARY:Alternation: Kristie Hansen
DESCRIPTION:Gallery Hours: Thursdays\, Fridays\, Saturdays 12-5 pm and by appointment\nOpening Reception\, Saturday\, March 14th\, 1-4 pm\nArtist’s Talk\, Saturday\, April 11th \nTransmission Gallery is pleased to present Alternation\, recent work by Kristie Hansen\, now featured in our Small Space. \nDrawing on her love of second-hand fashion\, Hansen sources discarded garments and accessories to construct unconventional\, layered sculptures. In Alternation\, she transforms a single\, deeply personal object into a series of intimate sculptural forms. These works originate from a brown suede jacket that once belonged to the artist’s mother—an item passed on during a period of family transition marked by downsizing\, aging\, and the loss of a long-held home. \nRather than preserving the garment intact\, Hansen dismantles and reshapes it\, allowing one article of clothing to generate multiple sculptural works. The suede is folded\, stitched\, and formed into soft geometric shapes that retain traces of their earlier life while becoming something entirely new. Beads taken from her mother’s jewelry are embedded along the seams; introducing variation within repetition and suggesting the individuality of memories that emerge from shared histories. \nThrough this process\, Alternation reframes a private inheritance as a broader reflection on transformation. The work speaks to experiences familiar across generations: the passing down of belongings\, the reshaping of family narratives\, and the quiet negotiation between holding on and letting go. \nRather than presenting change as a singular event\, Hansen treats it as gradual and ongoing. One garment becomes many objects; one story unfolds into multiple forms. In this way\, Alternation approaches personal history not as something fixed\, but as material that can be continually rearranged—an evolving structure shaped by resilience\, adaptation\, and persistence over time
URL:https://oaklandartmurmur.org/event/alternation-kristie-hansen/
LOCATION:Transmission Gallery\, 770 West Grand Ave.\, Suite A\, Oakland\, CA\, 94612\, United States
CATEGORIES:Ongoing Exhibitions
ATTACH;FMTTYPE=image/jpeg:https://oaklandartmurmur.org/wp-content/uploads/2026/03/PartsOfAWhole303-crop-sm.jpg
GEO:37.804829;-122.272476
X-APPLE-STRUCTURED-LOCATION;VALUE=URI;X-ADDRESS=Transmission Gallery 770 West Grand Ave. Suite A Oakland CA 94612 United States;X-APPLE-RADIUS=500;X-TITLE=770 West Grand Ave.\, Suite A:geo:-122.272476,37.804829
END:VEVENT
BEGIN:VEVENT
DTSTART;TZID=America/Los_Angeles:20260221T150000
DTEND;TZID=America/Los_Angeles:20260221T170000
DTSTAMP:20260420T112838
CREATED:20260127T025241Z
LAST-MODIFIED:20260128T021653Z
UID:10004173-1771686000-1771693200@oaklandartmurmur.org
SUMMARY:Opening Reception and Artist Talk – Christine Meuris: Wellspring
DESCRIPTION:Using silk thread and simple motifs\, Christine Meuris has created a series of semitransparent weavings that reflect feelings of harmony\, joy\, flow\, and wholeness. In 2023\, Meuris began studying weaving as a way to deepen and ground her creative practice. Working with weaving teacher Travis Meinolf\, at the Richmond Art Center and at his eponymous weaving school in Marin County\, Meuris was influenced by Meinolf’s judgment-free and open minded approach to weaving\, a practice that can otherwise become exacting. After a period of experimentation\, Meuris settled on a simple weaving technique — using plain weave with supplemental weft to construct imagery. In her weavings\, Meuris returns to the font of her creativity\, the work that steadies her in calm or tumultuous times\, repeating simple steps to build something greater than the sum of its parts. \nBio:\nMercury 20 member Christine Meuris lives and works in Berkeley\, CA. She has shown her work in solo and group shows locally\, notably at the Berkeley Art Center\, San Jose Museum of Quilts and Textiles\, and Mercury 20 Gallery\, and in group shows around the U.S. She was a resident artist at Kala Institute in 2023 and was the inaugural Digital Artist in Residence at the San Jose Museum of Quilts and Textiles (SJMQT) in 2020. Her work has appeared in the Surface Design Journal\, Fiber Art Now\, and the Textile Society of America News\, and is included in the collections of the City of Berkeley\, SJMQT\, Kaiser Permanente\, and Four Seasons Residences SF\, as well as several private collections. \nGallery Hours: Friday and Saturday\, 12 – 5 pm (and by appointment)\nArtists’ Reception: Saturday\, February 21\, 3 – 5 pm\, artist talks at 4:00 pm\n﻿Oakland Art Murmur / First Friday: Friday\, March 6\, 5 – 9 pm\nWeaving Demonstrations: Saturdays\, February 14\, March 7\, 14\, 21 @ 1:30 \nImage: Christine Meuris\, Upwelling I\, 2025\, commercially and naturally dyed silk\, 29 h x 24 w inches\, photo credit: Mark Serr
URL:https://oaklandartmurmur.org/event/opening-reception-and-artist-talk-christine-meuris-wellspring/
LOCATION:Mercury 20 Gallery\, 475 25th Street\, Oakland\, CA\, 94612\, United States
CATEGORIES:Opening Reception
ATTACH;FMTTYPE=image/jpeg:https://oaklandartmurmur.org/wp-content/uploads/2026/01/Christine-Meuris_Upwelling-1-scaled.jpg
GEO:37.804829;-122.272476
X-APPLE-STRUCTURED-LOCATION;VALUE=URI;X-ADDRESS=Mercury 20 Gallery 475 25th Street Oakland CA 94612 United States;X-APPLE-RADIUS=500;X-TITLE=475 25th Street:geo:-122.272476,37.804829
END:VEVENT
BEGIN:VEVENT
DTSTART;TZID=America/Los_Angeles:20260214T133000
DTEND;TZID=America/Los_Angeles:20260214T143000
DTSTAMP:20260420T112838
CREATED:20260131T173232Z
LAST-MODIFIED:20260131T173312Z
UID:10004182-1771075800-1771079400@oaklandartmurmur.org
SUMMARY:Weaving Demonstrations: Christine Meuris
DESCRIPTION:Join Mercury 20 Gallery for weaving demonstrations by artist member Christine Meuris.  \nSaturdays\, February 14\, March 7\, 14\, 21 @ 1:30 \nUsing silk thread and simple motifs\, Christine Meuris has created a series of semitransparent weavings that reflect feelings of harmony\, joy\, flow\, and wholeness.\nIn 2023\, Meuris began studying weaving as a way to deepen and ground her creative practice. Working with weaving teacher Travis Meinolf\, at the Richmond Art Center and at his eponymous weaving school in Marin County\, Meuris was influenced by Meinolf’s judgment-free and open minded approach to weaving\, a practice that can otherwise become exacting.\nAfter a period of experimentation\, Meuris settled on a simple weaving technique — using plain weave with supplemental weft to construct imagery. In her weavings\, Meuris returns to the font of her creativity\, the work that steadies her in calm or tumultuous times\, repeating simple steps to build something greater than the sum of its parts. \nBio:\nMercury 20 member Christine Meuris lives and works in Berkeley\, CA. She has shown her work in solo and group shows locally\, notably at the Berkeley Art Center\, San Jose Museum of Quilts and Textiles\, and Mercury 20 Gallery\, and in group shows around the U.S. She was a resident artist at Kala Institute in 2023 and was the inaugural Digital Artist in Residence at the San Jose Museum of Quilts and Textiles (SJMQT) in 2020. Her work has appeared in the Surface Design Journal\, Fiber Art Now\, and the Textile Society of America News\, and is included in the collections of the City of Berkeley\, SJMQT\, Kaiser Permanente\, and Four Seasons Residences SF\, as well as several private collections. \nImage: Christine Meuris\, Upwelling II\, 2025\, commercially and naturally dyed silk\, 29 h x 24 w inches\, photo credit: Mark Serr
URL:https://oaklandartmurmur.org/event/weaving-demonstrations-christine-meuris/
LOCATION:Mercury 20 Gallery\, 475 25th Street\, Oakland\, CA\, 94612\, United States
CATEGORIES:Special Events
ATTACH;FMTTYPE=image/jpeg:https://oaklandartmurmur.org/wp-content/uploads/2026/01/Christine-Meuris-Upwelling-II-1.jpg
GEO:37.804829;-122.272476
X-APPLE-STRUCTURED-LOCATION;VALUE=URI;X-ADDRESS=Mercury 20 Gallery 475 25th Street Oakland CA 94612 United States;X-APPLE-RADIUS=500;X-TITLE=475 25th Street:geo:-122.272476,37.804829
END:VEVENT
BEGIN:VEVENT
DTSTART;TZID=America/Los_Angeles:20260213T120000
DTEND;TZID=America/Los_Angeles:20260321T170000
DTSTAMP:20260420T112838
CREATED:20260127T024454Z
LAST-MODIFIED:20260127T024846Z
UID:10004172-1770984000-1774112400@oaklandartmurmur.org
SUMMARY:Body\, Quilt\, Animal – Pat Guthrie\, Jill McLennan\, Sara Lisch
DESCRIPTION:This group exhibition in The Backroom at Mercury 20 Gallery brings together a human figure\, an abstract quilt\, and a series of animal forms. The figure is constructed from layered hand-cut paper\, the quilt from fabric and dye\, and the animals through collage\, drawing\, and painting. Each piece is arranged through an intuitive search for balance and rhythm\, allowing form and pattern to emerge through the process of making rather than through planning or narrative. Across the works as a whole\, pattern\, repetition\, and process play a central role\, shaping how the images are built and experienced. Collage\, mixed media\, and fabric function as constructive tools\, with materials layered\, pieced\, and assembled over time. Rather than describing specific scenes or narratives\, the works emphasize accumulation\, surface\, and structure as the means through which the images take form. \nGallery Hours: Friday and Saturday\, 12 – 5 pm (and by appointment)\nArtists’ Reception: Saturday\, February 21\, 3 – 5 pm\n﻿Oakland Art Murmur / First Friday: Friday\, March 6\, 5 – 9 pm \nImages: Left to right\, clockwise: Sara Lisch\, “Oceanic\,” 2026\, Layered Paper\, 36 x 48 inches; Pat Guthrie\,”Rolling Virus\,”2026\, Textile\, 78 x 77 inches; Jill McLennan\,”Natures Critters\,” 2025\, coyote\, ink\, watercolor\, collage on wood panel\, 8 x 8 inches\, photos courtesy of the artists
URL:https://oaklandartmurmur.org/event/pat-guthrie-jill-mclennan-sara-lisch-body-quilt-animal/
LOCATION:Manna Gallery\, 473 25th St.\, Oakland\, CA\, 94612\, United States
CATEGORIES:Ongoing Exhibitions
ATTACH;FMTTYPE=image/jpeg:https://oaklandartmurmur.org/wp-content/uploads/2026/01/Body-Quilt-Animals-sara-lisch-scaled.jpg
GEO:37.8144;-122.2672
X-APPLE-STRUCTURED-LOCATION;VALUE=URI;X-ADDRESS=Manna Gallery 473 25th St. Oakland CA 94612 United States;X-APPLE-RADIUS=500;X-TITLE=473 25th St.:geo:-122.2672,37.8144
END:VEVENT
BEGIN:VEVENT
DTSTART;TZID=America/Los_Angeles:20260213T120000
DTEND;TZID=America/Los_Angeles:20260321T170000
DTSTAMP:20260420T112838
CREATED:20260125T205437Z
LAST-MODIFIED:20260126T000100Z
UID:10004170-1770984000-1774112400@oaklandartmurmur.org
SUMMARY:Christine Meuris: Wellspring
DESCRIPTION:Using silk thread and simple motifs\, Christine Meuris has created a series of semi-transparent weavings that reflect feelings of harmony\, joy\, flow\, and wholeness.\nIn 2023\, Meuris began studying weaving as a way to deepen and ground her creative practice. Working with weaving teacher Travis Meinolf\, at the Richmond Art Center and at his eponymous weaving school in Marin County\, Meuris was influenced by Meinolf’s judgment-free and open minded approach to weaving\, a practice that can otherwise become exacting.\nAfter a period of experimentation\, Meuris settled on a simple weaving technique — using plain weave with supplemental weft to construct imagery. In her weavings\, Meuris returns to the font of her creativity\, the work that steadies her in calm or tumultuous times\, repeating simple steps to build something greater than the sum of its parts. \nBio:\nMercury 20 member Christine Meuris lives and works in Berkeley\, CA. She has shown her work in solo and group shows locally\, notably at the Berkeley Art Center\, San Jose Museum of Quilts and Textiles\, and Mercury 20 Gallery\, and in group shows around the U.S. She was a resident artist at Kala Institute in 2023 and was the inaugural Digital Artist in Residence at the San Jose Museum of Quilts and Textiles (SJMQT) in 2020. Her work has appeared in the Surface Design Journal\, Fiber Art Now\, and the Textile Society of America News\, and is included in the collections of the City of Berkeley\, SJMQT\, Kaiser Permanente\, and Four Seasons Residences SF\, as well as several private collections. \nGallery Hours: Friday and Saturday\, 12 – 5 pm (and by appointment)\nArtists’ Reception: Saturday\, February 21\, 3 – 5 pm\, artist talks at 4:00 pm\n﻿Oakland Art Murmur / First Friday: Friday\, March 6\, 5 – 9 pm\nWeaving Demonstrations: Saturdays\, February 14\, March 7\, 14\, 21 @ 1:30 \nImage: Christine Meuris\, “Return\, Poppy\, Rain\,” 2025\, silk\, dimensions variable\, photo credit: Mark Serr
URL:https://oaklandartmurmur.org/event/christine-meuris-wellspring/
LOCATION:Mercury 20 Gallery\, 475 25th Street\, Oakland\, CA\, 94612\, United States
CATEGORIES:Ongoing Exhibitions
ATTACH;FMTTYPE=image/jpeg:https://oaklandartmurmur.org/wp-content/uploads/2026/01/Christine-Meuris-Return-Poppy-Rain.jpg
GEO:37.804829;-122.272476
X-APPLE-STRUCTURED-LOCATION;VALUE=URI;X-ADDRESS=Mercury 20 Gallery 475 25th Street Oakland CA 94612 United States;X-APPLE-RADIUS=500;X-TITLE=475 25th Street:geo:-122.272476,37.804829
END:VEVENT
BEGIN:VEVENT
DTSTART;TZID=America/Los_Angeles:20260117T130000
DTEND;TZID=America/Los_Angeles:20260321T170000
DTSTAMP:20260420T112838
CREATED:20251218T215446Z
LAST-MODIFIED:20251218T215446Z
UID:10004117-1768654800-1774112400@oaklandartmurmur.org
SUMMARY:Sin Contar Cincuenta: Miguel Arzabe Solo Show
DESCRIPTION:Johansson Projects is pleased to announce Sin Contar Cincuenta\, the third solo exhibition by Oakland-based artist Miguel Arzabe with the gallery. Arriving at a moment of heightened social and cultural reckoning\, the exhibition features a dynamic body of new weavings that reflect not only a rich “pluriverse” of influences–interpolated ways of being and expression that span the artist’s personal life\, Bolivian heritage\, and art historical precedent–but also the urgent need to honor and defend cultural plurality in today’s world. \nSin Contar Cincuenta runs from January 17 – March 21\, 2026 with an opening reception and artist talk on January 17\, from 3-5pm.\nFor all inquiries\, contact Johansson Projects at 510-444-9140  or info@johanssonprojects.com
URL:https://oaklandartmurmur.org/event/sin-contar-cincuenta-miguel-arzabe-solo-show/
LOCATION:Johansson Projects\, 2300 Telegraph Ave\, Oakland\, CA\, 94612\, United States
CATEGORIES:Artists Talk,Ongoing Exhibitions,Opening Reception
ATTACH;FMTTYPE=image/png:https://oaklandartmurmur.org/wp-content/uploads/2025/12/Miguel-Solo-banner-1.png
ORGANIZER;CN="Johansson Projects":MAILTO:info@johanssonprojects.com
GEO:37.804829;-122.272476
X-APPLE-STRUCTURED-LOCATION;VALUE=URI;X-ADDRESS=Johansson Projects 2300 Telegraph Ave Oakland CA 94612 United States;X-APPLE-RADIUS=500;X-TITLE=2300 Telegraph Ave:geo:-122.272476,37.804829
END:VEVENT
END:VCALENDAR