BEGIN:VCALENDAR
VERSION:2.0
PRODID:-// - ECPv6.6.4.1//NONSGML v1.0//EN
CALSCALE:GREGORIAN
METHOD:PUBLISH
X-ORIGINAL-URL:https://oaklandartmurmur.org
X-WR-CALDESC:Events for 
REFRESH-INTERVAL;VALUE=DURATION:PT1H
X-Robots-Tag:noindex
X-PUBLISHED-TTL:PT1H
BEGIN:VTIMEZONE
TZID:America/Los_Angeles
BEGIN:DAYLIGHT
TZOFFSETFROM:-0800
TZOFFSETTO:-0700
TZNAME:PDT
DTSTART:20260308T100000
END:DAYLIGHT
BEGIN:STANDARD
TZOFFSETFROM:-0700
TZOFFSETTO:-0800
TZNAME:PST
DTSTART:20261101T090000
END:STANDARD
END:VTIMEZONE
BEGIN:VEVENT
DTSTART;TZID=America/Los_Angeles:20260411T150000
DTEND;TZID=America/Los_Angeles:20260411T170000
DTSTAMP:20260419T220510
CREATED:20260308T053243Z
LAST-MODIFIED:20260308T053243Z
UID:10004224-1775919600-1775926800@oaklandartmurmur.org
SUMMARY:Artist Reception: Gina Gaiser - Built Different
DESCRIPTION:Join us for the reception of Built Different\, a series of black-and-white urban studies that examines the constructed world through a distinctly attuned lens. In these photographs\, Gina Gaiser documents brick facades\, graffiti\, industrial textures\, and architectural grids—evidence of how humans have reshaped and engineered their environment. Working in monochrome\, she strips away distraction to foreground repetition\, geometry\, and contrast. Individual images are brought together to form converging patterns\, reflecting a way of seeing that gravitates toward structure and system. What may appear chaotic or incidental resolves into rhythm and order. In Built Different\, the title operates on multiple levels: the city is built\, the environment is built\, and the mind observing it is built differently. The work suggests that difference in perception is not a flaw but a precision\, and an ability to recognize pattern\, coherence\, and design embedded within the grit of the everyday. \nBuilt Different\nNew Work by Gina Gaiser\nApril 3 – May 9\, 2026\nArtist Reception: Saturday\, April 11\, 3-5 pm\nGallery Hours: Saturdays\, 12-5 pm & First Fridays\, April 3 & May 1\, 5-8 pm
URL:https://oaklandartmurmur.org/event/artist-reception-gina-gaiser-built-different/
LOCATION:Manna Gallery\, 473 25th St.\, Oakland\, CA\, 94612\, United States
CATEGORIES:Opening Reception
ATTACH;FMTTYPE=image/jpeg:https://oaklandartmurmur.org/wp-content/uploads/2026/03/built-different-22.jpg
GEO:37.8144;-122.2672
X-APPLE-STRUCTURED-LOCATION;VALUE=URI;X-ADDRESS=Manna Gallery 473 25th St. Oakland CA 94612 United States;X-APPLE-RADIUS=500;X-TITLE=473 25th St.:geo:-122.2672,37.8144
END:VEVENT
BEGIN:VEVENT
DTSTART;TZID=America/Los_Angeles:20260403T170000
DTEND;TZID=America/Los_Angeles:20260403T200000
DTSTAMP:20260419T220510
CREATED:20260308T053640Z
LAST-MODIFIED:20260308T053640Z
UID:10004225-1775235600-1775246400@oaklandartmurmur.org
SUMMARY:Open First Friday: Built Different - Gina Gaiser
DESCRIPTION:Built Different is a black-and-white photography series by Gina Gaiser that examines the logic embedded in the urban landscape. Focusing on brickwork\, graffiti\, industrial surfaces\, and architectural grids\, Gaiser isolates fragments of the built environment and reframes them as studies in repetition\, contrast\, and form. Stripped of color\, the images emphasize structure and rhythm\, allowing overlooked details to surface with clarity. When assembled\, the photographs converge into larger visual systems\, revealing order within what might otherwise register as visual noise. Built Different reflects on construction in multiple senses\, of cities\, of environments\, and of perception itself\, proposing that heightened attention to pattern and geometry is not deviation\, but insight. \nApril 3 – May 9\, 2026\nArtist Reception: Saturday\, April 11\, 3-5 pm\nGallery Hours: Saturdays\, 12-5 pm & First Fridays\, April 3 & May 1\, 5-8 pm
URL:https://oaklandartmurmur.org/event/open-first-friday-built-different-gina-gaiser/2026-04-03/
LOCATION:Manna Gallery\, 473 25th St.\, Oakland\, CA\, 94612\, United States
CATEGORIES:Art Walk
ATTACH;FMTTYPE=image/jpeg:https://oaklandartmurmur.org/wp-content/uploads/2026/03/built-different-4.jpg
GEO:37.8144;-122.2672
X-APPLE-STRUCTURED-LOCATION;VALUE=URI;X-ADDRESS=Manna Gallery 473 25th St. Oakland CA 94612 United States;X-APPLE-RADIUS=500;X-TITLE=473 25th St.:geo:-122.2672,37.8144
END:VEVENT
BEGIN:VEVENT
DTSTART;TZID=America/Los_Angeles:20260312T190000
DTEND;TZID=America/Los_Angeles:20260312T210000
DTSTAMP:20260419T220510
CREATED:20260214T003835Z
LAST-MODIFIED:20260214T003836Z
UID:10004201-1773342000-1773349200@oaklandartmurmur.org
SUMMARY:Ride 4A Reason Fundraiser
DESCRIPTION:Fundraiser with Ride 4A Reason\, benefiting 12 Oakland schools serving low income families. 100% of the money raised pays for necessities like art\, library books\, sports\, science equipment\, and reading specialists.   \nArtist Talk March 12th 7-9pm
URL:https://oaklandartmurmur.org/event/ride-4a-reason-fundraiser/
LOCATION:The Grand Gallery\, 560 2nd Street\, Oakland\, CA\, 94607\, United States
CATEGORIES:Artists Talk
ATTACH;FMTTYPE=image/png:https://oaklandartmurmur.org/wp-content/uploads/2026/02/Howard-harawitz-3.png
ORGANIZER;CN="The Grand Gallery":MAILTO:thegrandgalleryoakland@gmail.com
END:VEVENT
BEGIN:VEVENT
DTSTART;TZID=America/Los_Angeles:20260307T130000
DTEND;TZID=America/Los_Angeles:20260307T170000
DTSTAMP:20260419T220510
CREATED:20260213T172732Z
LAST-MODIFIED:20260213T172732Z
UID:10004200-1772888400-1772902800@oaklandartmurmur.org
SUMMARY:Artist reception for protest photographer Howard Harawitz
DESCRIPTION:The Grand Gallery will host the Opening reception for legendary photographer Howard Harawitz\, on Saturday March 7th 1-5pm
URL:https://oaklandartmurmur.org/event/artist-reception-for-protest-photographer-howard-harawitz/
LOCATION:The Grand Gallery\, 560 2nd Street\, Oakland\, CA\, 94607\, United States
CATEGORIES:Opening Reception
ATTACH;FMTTYPE=image/png:https://oaklandartmurmur.org/wp-content/uploads/2026/02/Howard-harawitz-1.png
ORGANIZER;CN="The Grand Gallery":MAILTO:thegrandgalleryoakland@gmail.com
END:VEVENT
BEGIN:VEVENT
DTSTART;TZID=America/Los_Angeles:20260304T120000
DTEND;TZID=America/Los_Angeles:20260329T170000
DTSTAMP:20260419T220510
CREATED:20260213T172127Z
LAST-MODIFIED:20260213T172127Z
UID:10004199-1772625600-1774803600@oaklandartmurmur.org
SUMMARY:Howard Harawitz: Protest Photographer of the 60's
DESCRIPTION:Start date: March 4\, 2026\nEnd date: March 29\, 2026 \nYou’re invited to the Grand Gallery’s Artist reception for protest\nphotographer Howard Harawitz March 7 from 1-5pm. \nWith his Leica camera in his hands\, Howard Harawitz\ndocumented protests during the Free Speech\nMovement in Berkeley from 1964-5. The photographs in\nthis exhibit reveal the conditions in the Bay Area that\nbirthed many of the protests of this time. From fair housing\nto farm workers’ rights with the Free Speech Movement at\nthe core\, Harawitz shines a light on present-day parallels\nas a reminder to us all:\nPeople have the power.
URL:https://oaklandartmurmur.org/event/howard-harawitz-protest-photographer-of-the-60s/
LOCATION:The Grand Gallery\, 560 2nd Street\, Oakland\, CA\, 94607\, United States
CATEGORIES:Opening Reception
ATTACH;FMTTYPE=image/png:https://oaklandartmurmur.org/wp-content/uploads/2026/02/Howard-harawitz.png
ORGANIZER;CN="The Grand Gallery":MAILTO:thegrandgalleryoakland@gmail.com
END:VEVENT
END:VCALENDAR